BEGIN:VCALENDAR
VERSION:2.0
PRODID:-//Being Collective - ECPv6.15.20//NONSGML v1.0//EN
CALSCALE:GREGORIAN
METHOD:PUBLISH
X-ORIGINAL-URL:https://beingcollective.us
X-WR-CALDESC:Events for Being Collective
REFRESH-INTERVAL;VALUE=DURATION:PT1H
X-Robots-Tag:noindex
X-PUBLISHED-TTL:PT1H
BEGIN:VTIMEZONE
TZID:America/Chicago
BEGIN:DAYLIGHT
TZOFFSETFROM:-0600
TZOFFSETTO:-0500
TZNAME:CDT
DTSTART:20230312T080000
END:DAYLIGHT
BEGIN:STANDARD
TZOFFSETFROM:-0500
TZOFFSETTO:-0600
TZNAME:CST
DTSTART:20231105T070000
END:STANDARD
BEGIN:DAYLIGHT
TZOFFSETFROM:-0600
TZOFFSETTO:-0500
TZNAME:CDT
DTSTART:20240310T080000
END:DAYLIGHT
BEGIN:STANDARD
TZOFFSETFROM:-0500
TZOFFSETTO:-0600
TZNAME:CST
DTSTART:20241103T070000
END:STANDARD
BEGIN:DAYLIGHT
TZOFFSETFROM:-0600
TZOFFSETTO:-0500
TZNAME:CDT
DTSTART:20250309T080000
END:DAYLIGHT
BEGIN:STANDARD
TZOFFSETFROM:-0500
TZOFFSETTO:-0600
TZNAME:CST
DTSTART:20251102T070000
END:STANDARD
END:VTIMEZONE
BEGIN:VEVENT
DTSTART;TZID=America/Chicago:20240629T080000
DTEND;TZID=America/Chicago:20240629T090000
DTSTAMP:20260425T064159
CREATED:20240614T194303Z
LAST-MODIFIED:20240620T123900Z
UID:395-1719648000-1719651600@beingcollective.us
SUMMARY:Weekend WellBEing Series at the Farm Market | Gentle Flow with Robin Hertting with Being Collective
DESCRIPTION:Gentle Flow with Robin ~ Often lovingly referred to as ‘lay around’ yoga\, Robin’s classes are down to earth and awesome! \n\n \n\n\n\nWhether you are new to yoga\, want a refresher\, or simply want to practice with yoga basics\, this class is for you.  Gentle flow is a combination of a slower paced flow followed by a series of floor based poses.  We will explore breathing\, postures\, and mindfulness\, and how each of these work together to empower you to grow and evolve to live your life to the fullest!
URL:https://beingcollective.us/event/gentle-flow-robin-hertting-with-being-collective/
LOCATION:Houdini Plaza\, 100 W Lawrence St UNIT 307\, Appleton\, WI\, 54911\, United States
CATEGORIES:Yoga
ATTACH;FMTTYPE=image/png:https://beingcollective.us/wp-content/uploads/2024/06/Screenshot-2024-06-14-2.32.58-PM.png
END:VEVENT
END:VCALENDAR