BEGIN:VCALENDAR
VERSION:2.0
PRODID:-//Being Collective - ECPv6.15.20//NONSGML v1.0//EN
CALSCALE:GREGORIAN
METHOD:PUBLISH
X-WR-CALNAME:Being Collective
X-ORIGINAL-URL:https://beingcollective.us
X-WR-CALDESC:Events for Being Collective
REFRESH-INTERVAL;VALUE=DURATION:PT1H
X-Robots-Tag:noindex
X-PUBLISHED-TTL:PT1H
BEGIN:VTIMEZONE
TZID:America/Chicago
BEGIN:DAYLIGHT
TZOFFSETFROM:-0600
TZOFFSETTO:-0500
TZNAME:CDT
DTSTART:20240310T080000
END:DAYLIGHT
BEGIN:STANDARD
TZOFFSETFROM:-0500
TZOFFSETTO:-0600
TZNAME:CST
DTSTART:20241103T070000
END:STANDARD
BEGIN:DAYLIGHT
TZOFFSETFROM:-0600
TZOFFSETTO:-0500
TZNAME:CDT
DTSTART:20250309T080000
END:DAYLIGHT
BEGIN:STANDARD
TZOFFSETFROM:-0500
TZOFFSETTO:-0600
TZNAME:CST
DTSTART:20251102T070000
END:STANDARD
BEGIN:DAYLIGHT
TZOFFSETFROM:-0600
TZOFFSETTO:-0500
TZNAME:CDT
DTSTART:20260308T080000
END:DAYLIGHT
BEGIN:STANDARD
TZOFFSETFROM:-0500
TZOFFSETTO:-0600
TZNAME:CST
DTSTART:20261101T070000
END:STANDARD
END:VTIMEZONE
BEGIN:VEVENT
DTSTART;TZID=America/Chicago:20250314T180000
DTEND;TZID=America/Chicago:20250314T193000
DTSTAMP:20260424T160640
CREATED:20250112T173815Z
LAST-MODIFIED:20250313T143236Z
UID:1381-1741975200-1741980600@beingcollective.us
SUMMARY:Full Moon Sound Alchemy Experience
DESCRIPTION:Be with us for this guided\, interactive experience honoring the energy of the full moon as we harness the power of our breath\, merged with meditative mantras and liberating vocalizing to free the mind and body before we lift off into a journey of pure ethereal and ancestral sonic alchemy. \n\n\n\nOur time together opens with honoring\, intentions\, and meditation in sync with the moon’s energy and gently eases into an intuitive flow of sacred sound current that soothes\, calms\, inspires\, and aids in gentle release\, while supporting inner peace\, balance\, and transformation. \n\n\n\nOur heart and intuition crafted full moon sound alchemy experiences uplift you on a magic carpet ride with waves and waves of resonating frequency.Immerse yourself. \n\n\n\nFriday\,  March 14 @ Being Collective109 S Appleton St6:00 – 7:30 pm | 90 Minutes | $25/Person \n\n\n\nSavi and Mark\, your Loving Awareness Guides\, tune into the collective energy of those present to deliver a unique and immersive experience — bringing a field of Love and Healing alive in the most felt\, balancing\, and beautiful ways. \n\n\n\nMark and Savi are seasoned Conscious Experience Guides who take great care to create and hold sacred space for souls to embody authentically\, while allowing rest\, reset\, and restoration from within. \n\n\n\nEach Sound Alchemy Experience features a unique synergy of some of the following: \n\n\n\nHandpan\, crystal and Origin Series Singing Bowls\, overtone flute\, Koshi chimes\, metallophones\, seed rattles\, medicine drums\, vibrational drones and harmonium\, sounding breath\, nature sounds\, intuited Light Language\, and vocal toning\, singing\, and more… \n\n\n\nAllow yourself to rest\, reset\, and restore as you receive the waves of vibrational sound medicine. \n\n\n\nThe journey comes full circle with some moments of peaceful silence before being gently guided back into the waking moment\, allowing time for reflection and integration.
URL:https://beingcollective.us/event/full-moon-sound-alchemy-experience-2/
LOCATION:Being Collective\, 109 S. Appleton St\, Appleton\, 54911\, United States
CATEGORIES:Full Moon,Loving Awareness
ATTACH;FMTTYPE=image/png:https://beingcollective.us/wp-content/uploads/2024/12/COVER-Full-Moon-Sound-Alchemy-Experience-2.png
END:VEVENT
BEGIN:VEVENT
DTSTART;TZID=America/Chicago:20250320T183000
DTEND;TZID=America/Chicago:20250320T200000
DTSTAMP:20260424T160640
CREATED:20250307T192552Z
LAST-MODIFIED:20250307T192924Z
UID:1789-1742495400-1742500800@beingcollective.us
SUMMARY:Embody Spring! A Re-Awakening Journey with Savi + Mark
DESCRIPTION:Join us in honor of the Spring Equinox | let’s immerse in a journey of re-awakening\, in and through the body … tapping into breath\, sound\, and embodied movement for spring wellBEing.\n\n\n\n\n\n\n\nAs the season shifts and Mama Nature awakens and comes to life all around us\, we feel our own stirring deep within. The light of day lengthens and the creative fire within us grows. \n\n\n\nSpring is a time to lovingly tend to the gardens of our BEing-ness\, a time to nurture the seeds of our becoming as we expand and grow into all that we are\, and all that we are here to be. \n\n\n\nDuring this gentle spring embodiment journey\, we will:\n\n\n\n\nconnect\, ground\, and center in our bodies and being-ness\n\n\n\nbreathe\, listen\, move\, be still … repeat\n\n\n\nmove our bodies to earthy drum-scapes and ancestral rhythms\n\n\n\nhonor\, nurture\, and balance ourselves \n\n\n\n… guided by Savi\, all while tapping into our own unique\, authentic flow\n\n\n\nour journey comes full circle with an activating and integrating drum-wash from Savi and a spring sound alchemy bath lovingly provided by Mark\n\n\n\n\nThis journey is open\, accessible\, and welcoming to all!Embodied movement is freeing and completely adaptable to one’s own inspired\, authentic flow and capabilities. Embodied movement is for every body! \n\n\n\nWhat is Embodied Movement | Embodied Being?\n\n\n\nNurturance! \n\n\n\nNur·tur·ance – nounemotional and physical nourishment and care given to *someone.*self + other \n\n\n\n\n\n\n\nSavi in a self-embracing\, self-love hug … active\, engaged\, committed\, felt \n\n\n\nIn Embodied BEing we consciously listen to + honor our bodies and our feelings. Through intentional embodied (accessible\, dynamic\, and even playful) movement along with sequences of conscious breath\, we support our bodies need to move\, flow\, and find balance\, while giving stuck or stagnant energy and emotions a safe pathway to release as we bring an active reset to mind\, body\, spirit. \n\n\n\nWe’re in these bodies very much on purpose. \n\n\n\nJoin us! Feel embraced\, seen\, heard\, and empowered by the energy that Savi and the group synergy generates. \n\n\n\nEmbodied BeingBeing Embodied
URL:https://beingcollective.us/event/embody-spring/
LOCATION:Being Collective\, 109 S. Appleton St\, Appleton\, 54911\, United States
CATEGORIES:Breath,Loving Awareness Embodiment Yoga,Meditation,Soul Sound Journey
ATTACH;FMTTYPE=image/png:https://beingcollective.us/wp-content/uploads/2025/03/COVER-Embody-Spring-3.20.2025-1920-x-1080-px.png
END:VEVENT
END:VCALENDAR