BEGIN:VCALENDAR
VERSION:2.0
PRODID:-//Being Collective - ECPv6.15.20//NONSGML v1.0//EN
CALSCALE:GREGORIAN
METHOD:PUBLISH
X-ORIGINAL-URL:https://beingcollective.us
X-WR-CALDESC:Events for Being Collective
REFRESH-INTERVAL;VALUE=DURATION:PT1H
X-Robots-Tag:noindex
X-PUBLISHED-TTL:PT1H
BEGIN:VTIMEZONE
TZID:America/Chicago
BEGIN:DAYLIGHT
TZOFFSETFROM:-0600
TZOFFSETTO:-0500
TZNAME:CDT
DTSTART:20250309T080000
END:DAYLIGHT
BEGIN:STANDARD
TZOFFSETFROM:-0500
TZOFFSETTO:-0600
TZNAME:CST
DTSTART:20251102T070000
END:STANDARD
BEGIN:DAYLIGHT
TZOFFSETFROM:-0600
TZOFFSETTO:-0500
TZNAME:CDT
DTSTART:20260308T080000
END:DAYLIGHT
BEGIN:STANDARD
TZOFFSETFROM:-0500
TZOFFSETTO:-0600
TZNAME:CST
DTSTART:20261101T070000
END:STANDARD
BEGIN:DAYLIGHT
TZOFFSETFROM:-0600
TZOFFSETTO:-0500
TZNAME:CDT
DTSTART:20270314T080000
END:DAYLIGHT
BEGIN:STANDARD
TZOFFSETFROM:-0500
TZOFFSETTO:-0600
TZNAME:CST
DTSTART:20271107T070000
END:STANDARD
END:VTIMEZONE
BEGIN:VEVENT
DTSTART;TZID=America/Chicago:20260305T183000
DTEND;TZID=America/Chicago:20260305T203000
DTSTAMP:20260423T105514
CREATED:20260212T213630Z
LAST-MODIFIED:20260301T020344Z
UID:2938-1772735400-1772742600@beingcollective.us
SUMMARY:Community Call: Raise Your Voice | Singing Resistance Fox Cities
DESCRIPTION:Have you felt inspired to SING in solidarity with our friends in Minnesota and around the globe? Do you want to raise your voice in a connected\, unified\, heart-led way? \n\n\n\nIf yes\, then meet with us on March 5th at Being Collective for our first Singing Resistance Fox Cities Intro | Info | SING Meeting. \n\n\n\n\n\n\n\nJoin the MOVEMENT that is SINGING Resistance + Growing LOVE for all\n\n\n\nPlease RSVP to: singingresistancefoxcities@proton.me \n\n\n\nInspired by Singing Resistance Twin Cities\, we are excited and eager to help Singing Resistance Fox Cities find its collective voice as we organize\, mobilize\, and take to the streets\, rallies\, community centers and gatherings\, etc while using the power of our shared voices in music and song to create change and transformation for good. \n\n\n\nMark and I attended a webinar recently with the Singing Resistance team. Around 3000 people attended!! The purpose is to support groups all around the country (and world!) to join the movement in Singing Resistance for a brighter\, better world. \n\n\n\nThe webinar was AMAZING! This team is inspired! organized! and super LOVING and supportive!! They’ve created a toolkit and songbook for all of us to utilize so we can step right into the wave they’ve so beautifully created and ride it right here in the Fox Cities to SING and raise our voices locally! \n\n\n\n\n\n\n\nThis project will take a village! Please attend our first informational meeting so we can connect and build momentum toward organizing\, mobilizing\, and of course SINGing!! \n\n\n\nWe will meet on Thursday\, March 5th at 6:30 PM at Being Collective.\n\n\n\nSavi will make tea to share! If anyone wants to bring a treat to pass\, feel free! \n\n\n\nPlease spread the word! \n\n\n\n… and RSVP to singingresistancefoxcities@proton.me let us know if you are able to attend. \n\n\n\nMeeting Agenda for March 5th\n\n\n\nThis meeting will be an introduction to Singing Resistance where we can share info and collectively co-create ideas to share and grow interest and participation … AND!! of course\, we will SING!! \n\n\n\nIn Heart and Song for Humanity’s Spirit and our Country’s and the World’s Well-Being…Love and Peace\,Savi + Mark
URL:https://beingcollective.us/event/community-call-raise-your-voice-singing-resistance-fox-cities/
LOCATION:Being Collective\, 109 S Appleton St\, Appleton\, Wisconsin\, 54911
CATEGORIES:Singing Resistance,Special Event
ATTACH;FMTTYPE=image/png:https://beingcollective.us/wp-content/uploads/2026/02/FINAL-COVER-SR-Meeting-March-5-1920-x-1080-px.png
END:VEVENT
BEGIN:VEVENT
DTSTART;TZID=America/Chicago:20260308T113000
DTEND;TZID=America/Chicago:20260308T124500
DTSTAMP:20260423T105514
CREATED:20260104T193349Z
LAST-MODIFIED:20260217T185537Z
UID:2759-1772969400-1772973900@beingcollective.us
SUMMARY:Soul Sound Journey with Savi + Mark | Sound Alchemy for Mind\, Body\, Spirit
DESCRIPTION:Journey with us! Rest. Reset. Restore.Soothing Sunday Soul Sound Journeys … your soul is calling. \n\n\n\nWe invite you to experience how intentionally crafted sound vibrations can give you a restful and revitalizing restorative reset. Come be cocooned in resonant waves of sonic vibrations created and inspired in the moment.  \n\n\n\nPlease Pre – Register below. PRE – REGISTRATION appreciated due to event popularity and space availability. \n\n\n\n\n\nSavi and Mark\, your Loving Awareness Soul Sound Journey guides\, tune into the collective energy of those present to deliver a unique and immersive soundscape — bringing a field of nurturing love and healing alive in the most felt\, balancing\, and beautiful ways. \n\n\n\nImmerse Yourself in a sonic river of healing\, an ocean love with waves and waves of resonating frequency that soothe\, calm\, aid in gentle release\, and support inner peace\, balance\, and transformation. \n\n\n\nMark and Savi are seasoned Conscious Experience Guides who know how to create and hold sacred space for souls to embody authentically\, while allowing rest\, reset\, and restoration from within. \n\n\n\nSoul Sound Journeys with Savi and Mark are one of a kind (and never the same thing twice!)\, featuring a unique synergy of the following: \n\n\n\nHandpan\, Tibetan\, crystal\, and Origin Series singing bowls\, overtone flute\, drone flutes\, ocarina (clay flute)\, Nepalese bells\, Koshi chimes\, metallophones\, seed rattles\, medicine drums\, vibrational drones and harmonium\, sounding breath\, nature sounds\, intuited Light Language\, and vocal toning\, singing\, and more… \n\n\n\nAllow yourself to rest\, reset\, and restore as you receive the waves of vibrational sound medicine. \n\n\n\nThe journey comes full circle with some moments of peaceful silence before being gently guided back into the waking moment\, allowing time for reflection and integration. \n\n\n\nWhat To Bring: \n\n\n\nAnything that will support you in feeling comfy\, cozy\, and cocooned during the journey! \n\n\n\nSuggestions are: \n\n\n\n\nYoga Mat\, other thicker mat\n\n\n\nBlanket(s)\n\n\n\nPillow(s)\n\n\n\nSocks/Slippers\n\n\n\nEye Mask (if you want to block light\, totally optional\, listen to your inner guidance)\n\n\n\nWater bottle\n\n\n\n\nWhat to Expect: \n\n\n\n\nThe full journey from start to finish will be 75 minutes\, including introduction at the beginning and integration/reflection time at the end\n\n\n\nWe are a shoes off gathering space\, please feel free to bring slippers or cozy socks\n\n\n\nYou will be invited to lie down during the sound journey\, and you are welcome to change positions at any time for comfort. \n\n\n\nOther familiar terms you may have heard for experiences like this can be: sound bath\, sound healing\, sound therapy\, etc. We choose Soul Sound Journey and Sound Alchemy for our unique experience as it is a transformative sound vibration fusion of intuitive\, indigenous\, and ancient\, ancestral sounds and vocalizations that ‘speak to the soul’.\n\n\n\n\nWe look forward to journeying into the alchemy of sound with you! \n\n\n\nWant to Schedule a Private Group Soul Sound Journey? \n\n\n\nTo book a private Soul Sound Journey for your special group\, please reach out: \n\n\n\nconnect@beingcollective.us 
URL:https://beingcollective.us/event/soul-sound-journey-with-savi-mark-sound-alchemy-for-mind-body-spirit-11/
LOCATION:Being Collective\, 109 S. Appleton St\, Appleton\, 54911\, United States
CATEGORIES:Soul Sound Journey
ATTACH;FMTTYPE=image/png:https://beingcollective.us/wp-content/uploads/2025/01/Soul-Sound-Journey-NEW-Cover-1.4.25.png
END:VEVENT
BEGIN:VEVENT
DTSTART;TZID=America/Chicago:20260313T183000
DTEND;TZID=America/Chicago:20260313T200000
DTSTAMP:20260423T105514
CREATED:20260124T193013Z
LAST-MODIFIED:20260217T185947Z
UID:2823-1773426600-1773432000@beingcollective.us
SUMMARY:Community Singing! Brilliant Bliss Mantra Music | Kirtan
DESCRIPTION:When we sing in harmony together it just plain feels GOOD! AND… it creates a unified field of purpose\, power\, and love that amplifies our connection and collective presence. Come raise your voices in song with us! \n\n\n\n\n\nSinging together helps! It helps to give emotions a safe channel for release\, it helps to uplift our tired spirits and renew our souls\, it opens the heart and calms the mind\, it creates a deeper sense of belonging and unified connection\, it brings inner-harmony. Come sing with us! We need this!! \n\n\n\nSACRED SOUND MEDICINE FOR HEART AND SOUL ~ SING . LISTEN . BREATHE . CONNECT . BE .\n\n\n\nThese gatherings of singing ancient mantras + conscious lyrics are heart + soul medicine that support us now more than ever. Let’s GO! We need this!!You don’t have to be a singer to join us … the collective voice creates a brilliantly beautiful sound that heals the heart and uplifts the spirit! Come! \n\n\n\nAbout Our CommUNITY Mantra Music Journeys\n\n\n\nDid you know that singing in community can increase inner-peace\, uplift your mind\, open your heart + leave you feeling more connected\, centered\, and alive? \n\n\n\nJoin our Family Band — Savi\, Mark\, Deann\, Denise\, Eliana + soul family friends — for an evening of Brilliant Bliss: a participatory\, co-creative music + sound healing journey. \n\n\n\nKarli from the amazing local duo\, Natural Satellite\, will be joining us on cello. \n\n\n\nCome sing with us\, rock your body\, dance if the mood arises\, and bask in the ocean of sacred sounds and heart connection with soul family. \n\n\n\nNot a singer? No problem! Come and immerse in the sound current and BE. \n\n\n\nBrilliant Bliss Mantra Music is sacred sound medicine for heart & soul\, weaving high vibe conscious lyrics\, ancient mantras\, and earthy-cosmic grooves that embrace\, uplift\, empower & elevate! \n\n\n\nThe most important part of the band is…YOU! \n\n\n\nIt’s YOUR Presence and open heart that co-create the magic that unfolds. \n\n\n\nTHANK YOU FOR CHOOSING TO JOIN US FOR THIS COLLECTIVE SOUL-ENRICHING EXPERIENCE!\n\n\n\nWhat to Bring — \n\n\n\nParking: available in the ramp behind our building \n\n\n\nPLEASE BRING for your comfort: \n\n\n\nCushion/pillow + blanket for floor seating\, if you prefer this. We have chairs available if you prefer not to sit on the floor. \n\n\n\nWater bottle with sealable cap \n\n\n\nFlexible pricing for this event!Please choose the ticket price that works the best for you.Cash or Venmo option also available at the door. If not pre-purchasing a ticket please email us ahead of the event to let us know you will be joining us. connect@beingcollective.us.Thanks for your support!
URL:https://beingcollective.us/event/kirtan-brilliant-bliss-mantra-music-journey/
LOCATION:Being Collective\, 109 S. Appleton St\, Appleton\, 54911\, United States
CATEGORIES:Mantra
ATTACH;FMTTYPE=image/png:https://beingcollective.us/wp-content/uploads/2025/12/Screenshot-2026-01-30-at-8.30.27-AM.png
END:VEVENT
BEGIN:VEVENT
DTSTART;TZID=America/Chicago:20260319T183000
DTEND;TZID=America/Chicago:20260319T203000
DTSTAMP:20260423T105514
CREATED:20260301T031857Z
LAST-MODIFIED:20260301T031858Z
UID:2994-1773945000-1773952200@beingcollective.us
SUMMARY:Community Call: Raise Your Voice | Singing Resistance Fox Cities
DESCRIPTION:Have you felt inspired to SING in solidarity with our friends in Minnesota and around the globe?Do you want to raise your voice in a connected\, unified\, heart-led way? \n\n\n\nIf yes\, then meet with us on March 19th at Being Collective for our 2nd Singing Resistance Fox Cities Intro | Info | SING Meeting. \n\n\n\n\n\nJoin the MOVEMENT that is SINGING Resistance + Growing LOVE for all\n\n\n\nPlease RSVP to: singingresistancefoxcities@proton.me \n\n\n\nInspired by Singing Resistance Twin Cities\, we are excited and eager to help Singing Resistance Fox Cities find its collective voice as we organize\, mobilize\, and take to the streets\, rallies\, community centers and gatherings\, etc while using the power of our shared voices in music and song to create change and transformation for good. \n\n\n\nMark and I attended a webinar recently with the Singing Resistance team. Around 3000 people attended!! The purpose is to support groups all around the country (and world!) to join the movement in Singing Resistance for a brighter\, better world. \n\n\n\nThe webinar was AMAZING! This team is inspired! organized! and super LOVING and supportive!! They’ve created a toolkit and songbook for all of us to utilize so we can step right into the wave they’ve so beautifully created and ride it right here in the Fox Cities to SING and raise our voices locally! \n\n\n\nThis project will take a village! Please attend our 2nd informational meeting so we can connect and build momentum toward organizing\, mobilizing\, and of course SINGing!! \n\n\n\nWe will meet on Thursday\, March 19th at 6:30 PM at Being Collective.\n\n\n\n \n\n\n\nPlease spread the word!\n\n\n\n… and RSVP to singingresistancefoxcities@proton.me let us know if you are able to attend. \n\n\n\nMeeting Agenda for March 19th\n\n\n\nThis meeting will be an introduction to Singing Resistance where we can share info and collectively co-create ideas to share and grow interest and participation … AND!! of course\, we will SING!! \n\n\n\nIn Heart and Song for Humanity’s Spirit and our Country’s and the World’s Well-Being…Love and Peace\,Savi + Mark
URL:https://beingcollective.us/event/community-call-raise-your-voice-singing-resistance-fox-cities-2/
LOCATION:Being Collective\, 109 S. Appleton St\, Appleton\, 54911\, United States
CATEGORIES:Singing Resistance
ATTACH;FMTTYPE=image/png:https://beingcollective.us/wp-content/uploads/2026/02/Copy-of-FINAL-COVER-SR-Meeting-March-5-1920-x-1080-px.png
END:VEVENT
END:VCALENDAR