BEGIN:VCALENDAR
VERSION:2.0
PRODID:-//Being Collective - ECPv6.15.20//NONSGML v1.0//EN
CALSCALE:GREGORIAN
METHOD:PUBLISH
X-ORIGINAL-URL:https://beingcollective.us
X-WR-CALDESC:Events for Being Collective
REFRESH-INTERVAL;VALUE=DURATION:PT1H
X-Robots-Tag:noindex
X-PUBLISHED-TTL:PT1H
BEGIN:VTIMEZONE
TZID:America/Chicago
BEGIN:DAYLIGHT
TZOFFSETFROM:-0600
TZOFFSETTO:-0500
TZNAME:CDT
DTSTART:20240310T080000
END:DAYLIGHT
BEGIN:STANDARD
TZOFFSETFROM:-0500
TZOFFSETTO:-0600
TZNAME:CST
DTSTART:20241103T070000
END:STANDARD
BEGIN:DAYLIGHT
TZOFFSETFROM:-0600
TZOFFSETTO:-0500
TZNAME:CDT
DTSTART:20250309T080000
END:DAYLIGHT
BEGIN:STANDARD
TZOFFSETFROM:-0500
TZOFFSETTO:-0600
TZNAME:CST
DTSTART:20251102T070000
END:STANDARD
BEGIN:DAYLIGHT
TZOFFSETFROM:-0600
TZOFFSETTO:-0500
TZNAME:CDT
DTSTART:20260308T080000
END:DAYLIGHT
BEGIN:STANDARD
TZOFFSETFROM:-0500
TZOFFSETTO:-0600
TZNAME:CST
DTSTART:20261101T070000
END:STANDARD
END:VTIMEZONE
BEGIN:VEVENT
DTSTART;TZID=America/Chicago:20251102T113000
DTEND;TZID=America/Chicago:20251102T124500
DTSTAMP:20260423T160448
CREATED:20250905T235637Z
LAST-MODIFIED:20251003T174244Z
UID:2351-1762083000-1762087500@beingcollective.us
SUMMARY:Soul Sound Journey with Savi + Mark | Sound Alchemy for Mind\, Body\, Spirit
DESCRIPTION:Journey with us! Rest. Reset. Restore.Soothing Sunday Soul Sound Journeys … your soul is calling. \n\n\n\nWe invite you to experience how intentionally crafted sound vibrations can give you a restful and revitalizing restorative reset. Come be cocooned in resonant waves of sonic vibrations created and inspired in the moment.  \n\n\n\nPlease Pre – Register below. PRE – REGISTRATION appreciated due to event popularity and space availability. \n\n\n\n\n\nSavi and Mark\, your Loving Awareness Soul Sound Journey guides\, tune into the collective energy of those present to deliver a unique and immersive soundscape — bringing a field of nurturing love and healing alive in the most felt\, balancing\, and beautiful ways. \n\n\n\nImmerse Yourself in a sonic river of healing\, an ocean love with waves and waves of resonating frequency that soothe\, calm\, aid in gentle release\, and support inner peace\, balance\, and transformation. \n\n\n\nMark and Savi are seasoned Conscious Experience Guides who know how to create and hold sacred space for souls to embody authentically\, while allowing rest\, reset\, and restoration from within. \n\n\n\nSoul Sound Journeys with Savi and Mark are one of a kind (and never the same thing twice!)\, featuring a unique synergy of the following: \n\n\n\nHandpan\, Tibetan\, crystal\, and Origin Series singing bowls\, overtone flute\, drone flutes\, ocarina (clay flute)\, Nepalese bells\, Koshi chimes\, metallophones\, seed rattles\, medicine drums\, vibrational drones and harmonium\, sounding breath\, nature sounds\, intuited Light Language\, and vocal toning\, singing\, and more… \n\n\n\nAllow yourself to rest\, reset\, and restore as you receive the waves of vibrational sound medicine. \n\n\n\nThe journey comes full circle with some moments of peaceful silence before being gently guided back into the waking moment\, allowing time for reflection and integration. \n\n\n\nWhat To Bring: \n\n\n\nAnything that will support you in feeling comfy\, cozy\, and cocooned during the journey! \n\n\n\nSuggestions are: \n\n\n\n\nYoga Mat\, other thicker mat\n\n\n\nBlanket(s)\n\n\n\nPillow(s)\n\n\n\nSocks/Slippers\n\n\n\nEye Mask (if you want to block light\, totally optional\, listen to your inner guidance)\n\n\n\nWater bottle\n\n\n\n\nWhat to Expect: \n\n\n\n\nThe full journey from start to finish will be 75 minutes\, including introduction at the beginning and integration/reflection time at the end\n\n\n\nWe are a shoes off gathering space\, please feel free to bring slippers or cozy socks\n\n\n\nYou will be invited to lie down during the sound journey\, and you are welcome to change positions at any time for comfort. \n\n\n\nOther familiar terms you may have heard for experiences like this can be: sound bath\, sound healing\, sound therapy\, etc. We choose Soul Sound Journey and Sound Alchemy for our unique experience as it is a transformative sound vibration fusion of intuitive\, indigenous\, and ancient\, ancestral sounds and vocalizations that ‘speak to the soul’.\n\n\n\n\nWe look forward to journeying into the alchemy of sound with you! \n\n\n\nWant to Schedule a Private Group Soul Sound Journey? \n\n\n\nTo book a private Soul Sound Journey for your special group\, please reach out: \n\n\n\nconnect@beingcollective.us 
URL:https://beingcollective.us/event/soul-sound-journey-with-savi-mark-sound-alchemy-for-mind-body-spirit-7/
LOCATION:Being Collective\, 109 S. Appleton St\, Appleton\, 54911\, United States
CATEGORIES:Soul Sound Journey
ATTACH;FMTTYPE=image/png:https://beingcollective.us/wp-content/uploads/2025/01/Soul-Sound-Journey-NEW-Cover-1.4.25.png
END:VEVENT
BEGIN:VEVENT
DTSTART;TZID=America/Chicago:20251106T183000
DTEND;TZID=America/Chicago:20251106T194500
DTSTAMP:20260423T160448
CREATED:20250905T235109Z
LAST-MODIFIED:20251003T181324Z
UID:2348-1762453800-1762458300@beingcollective.us
SUMMARY:Full Moon Sound Alchemy
DESCRIPTION:Join us for a guided interactive full moon energy journey … then immerse in the sonic healing waves of an intuitively unfolding Sound Alchemy experience. \n\n\n\nPlease PRE-Register before 1pm on Thursday Nov. 6th \n\n\n\n\n\n \n\n\n\nBe with us for this guided\, interactive and immersive experience honoring the energy of the full moon as we harness the power of our breath\, merged with meditative mantras and liberating vocalizing to free the mind and body before we lift off into a journey of pure ethereal and ancestral sonic alchemy. \n\n\n\nPlease bring yoga mat\, blanket\, water bottle and anything else to assist in your comfort while sitting / laying on our wood floor. \n\n\n\nOur time together opens with honoring\, intentions\, and meditation in sync with the moon’s energy and gently eases into an intuitive flow of sacred sound current that soothes\, calms\, inspires\, and aids in gentle release\, while supporting inner peace\, balance\, and transformation. \n\n\n\nOur heart and intuition crafted full moon sound alchemy experiences uplift you on a magic carpet ride with waves and waves of resonating frequency.Immerse yourself. \n\n\n\nThursday\,  November 6 @ Being Collective109 S Appleton St6:30 – 7:45 pm | 75 Minutes | $28/Person \n\n\n\nSavi and Mark\, your Loving Awareness Guides\, tune into the collective energy of those present to deliver a unique and immersive experience — bringing a field of Love and Healing alive in the most felt\, balancing\, and beautiful ways. \n\n\n\nMark and Savi are seasoned Conscious Experience Guides who take great care to create and hold sacred space for souls to embody authentically\, while allowing rest\, reset\, and restoration from within. \n\n\n\nEach Sound Alchemy Experience features a unique synergy of some of the following: \n\n\n\nHandpan\, crystal and Origin Series Singing Bowls\, overtone flute\, Koshi chimes\, metallophones\, seed rattles\, medicine drums\, vibrational drones and harmonium\, sounding breath\, nature sounds\, intuited Light Language\, and vocal toning\, singing\, and more… \n\n\n\nAllow yourself to rest\, reset\, and restore as you receive the waves of vibrational sound medicine. \n\n\n\nThe journey comes full circle with some moments of peaceful silence before being gently guided back into the waking moment\, allowing time for reflection and integration.
URL:https://beingcollective.us/event/full-moon-sound-alchemy-3/
LOCATION:Being Collective\, 109 S. Appleton St\, Appleton\, 54911\, United States
CATEGORIES:Full Moon
ATTACH;FMTTYPE=image/png:https://beingcollective.us/wp-content/uploads/2024/12/COVER-Full-Moon-Sound-Alchemy-Experience-2.png
END:VEVENT
BEGIN:VEVENT
DTSTART;TZID=America/Chicago:20251120T183000
DTEND;TZID=America/Chicago:20251120T194500
DTSTAMP:20260423T160448
CREATED:20251015T150732Z
LAST-MODIFIED:20251111T155432Z
UID:2476-1763663400-1763667900@beingcollective.us
SUMMARY:New Moon Sound Alchemy Experience
DESCRIPTION:Release. Renew. Receive. \n\n\n\nImmerse with us … into a collectively interactive flow of intention\, breath\, expression\, and Sound Alchemy in harmony with the new moon energy \n\n\n\n\n\nThe circle opens as we call in the energies of the new moon through breath and guided meditation — preparing us to release what no longer serves as we open to receive the new.Turning inward\, we gather and set our intentions for this moon cycle. \n\n\n\nThe journey continues as we open to Sound Alchemy — floating upon an ocean of sonic waves intuitively co-created by Savi and Mark moment to moment. Inviting the energies of the New Moon\, we dive deep and explore the inner-world soundscape that emerges when we allow the songs of our souls to be expressed\, felt\, and received. \n\n\n\nOur experience comes full circle with a gentle guided flow of breath and soothing words of affirmation to help us return to the moment with embodied presence\, along with some time for integration and Love Field Reflection. \n\n\n\nWithin our New Moon Sound Alchemy Experience\, we are — \n\n\n\n\nlistening deeply to our inner call\, \n\n\n\nopening to new beginnings\, \n\n\n\nplanting seeds of intention\, \n\n\n\nallowing the grace of renewal\, and the power of manifestation to unfold\n\n\n\n\nPlease Bring — \n\n\n\n\nYoga mat + blanket + cushion/pillow\n\n\n\nWater bottle\n\n\n\nJournal + pen\n\n\n\nAnything else you need to support your experience (eye mask\, more cozies\, etc.)\n\n\n\n\nSound Alchemy Experiences with Savi and Mark — \n\n\n\nSavi and Mark\, your Loving Awareness Guides\, tune into the collective energy of those present to deliver a unique and immersive experience — bringing a field of Love and Healing alive in the most felt\, balancing\, and beautiful ways. \n\n\n\nMark and Savi are seasoned Conscious Experience Guides who take great care to create and hold sacred space for souls to embody authentically\, while allowing rest\, reset\, and restoration from within. \n\n\n\nEach Sound Alchemy Experience features a unique synergy of some of the following: \n\n\n\nHandpan\, crystal and Origin Series Singing Bowls\, overtone flute\, Koshi chimes\, metallophones\, seed rattles\, medicine drums\, vibrational drones and harmonium\, sounding breath\, nature sounds\, intuited Light Language\, and vocal toning\, singing\, and more… \n\n\n\nAllow yourself to rest\, reset\, and restore as you receive the waves of vibrational sound medicine.
URL:https://beingcollective.us/event/new-moon-sound-alchemy-experience/
LOCATION:Being Collective\, 109 S. Appleton St\, Appleton\, 54911\, United States
CATEGORIES:Soul Sound Journey
ATTACH;FMTTYPE=image/png:https://beingcollective.us/wp-content/uploads/2025/10/COVER-New-Moon-Sound-Alchemy.png
END:VEVENT
BEGIN:VEVENT
DTSTART;TZID=America/Chicago:20251125T183000
DTEND;TZID=America/Chicago:20251125T183000
DTSTAMP:20260423T160448
CREATED:20251106T160652Z
LAST-MODIFIED:20251106T165649Z
UID:2569-1764095400-1764095400@beingcollective.us
SUMMARY:Gratitude + Holiday Cheer Open House
DESCRIPTION:You’re Invited! Please join us!\n\n\n\nGather for some FESTIVE CHEER and watch the Appleton Christmas Parade from our cozy Being Collective vantage point during our Gratitude + Holiday Cheer Open House! \n\n\n\nDoors open at 6:30 | light snacks + NA drinks provided(Parade begins at 7 PM) \n\n\n\nThis gathering is for all of our teachers\, guides\, students\, event participants\, and their families! \n\n\n\nYour RSVP is requested! Please RSVP by NOV 21st\n\n\n\nYour RSVP helps us prepare with festive refreshments\, etc. Thank you for letting us know ahead of time if you plan to be with us\, and how many family members will be joining you. \n\n\n\nWe Appreciate You!\n\n\n\nThis joyful gathering is a gift of gratitude to our BEing Collective CommUnity. Thank you for your beautiful support of our classes and events\, and for helping us to grow a Center for Connection and WellBEing together! We appreciate you! \n\n\n\n~ In Gratitude\, with Blessings from your BEING COLLECTIVE Partners\,Elisabeth ~ Soul Echo Yoga + WellnessSavi and Mark ~ Loving Awareness
URL:https://beingcollective.us/event/gratitude-holiday-cheer-open-house/
CATEGORIES:Special Event
ATTACH;FMTTYPE=image/png:https://beingcollective.us/wp-content/uploads/2025/11/Holiday-Open-House.png
END:VEVENT
END:VCALENDAR