BEGIN:VCALENDAR
VERSION:2.0
PRODID:-//Being Collective - ECPv6.15.20//NONSGML v1.0//EN
CALSCALE:GREGORIAN
METHOD:PUBLISH
X-WR-CALNAME:Being Collective
X-ORIGINAL-URL:https://beingcollective.us
X-WR-CALDESC:Events for Being Collective
REFRESH-INTERVAL;VALUE=DURATION:PT1H
X-Robots-Tag:noindex
X-PUBLISHED-TTL:PT1H
BEGIN:VTIMEZONE
TZID:America/Chicago
BEGIN:DAYLIGHT
TZOFFSETFROM:-0600
TZOFFSETTO:-0500
TZNAME:CDT
DTSTART:20230312T080000
END:DAYLIGHT
BEGIN:STANDARD
TZOFFSETFROM:-0500
TZOFFSETTO:-0600
TZNAME:CST
DTSTART:20231105T070000
END:STANDARD
BEGIN:DAYLIGHT
TZOFFSETFROM:-0600
TZOFFSETTO:-0500
TZNAME:CDT
DTSTART:20240310T080000
END:DAYLIGHT
BEGIN:STANDARD
TZOFFSETFROM:-0500
TZOFFSETTO:-0600
TZNAME:CST
DTSTART:20241103T070000
END:STANDARD
BEGIN:DAYLIGHT
TZOFFSETFROM:-0600
TZOFFSETTO:-0500
TZNAME:CDT
DTSTART:20250309T080000
END:DAYLIGHT
BEGIN:STANDARD
TZOFFSETFROM:-0500
TZOFFSETTO:-0600
TZNAME:CST
DTSTART:20251102T070000
END:STANDARD
END:VTIMEZONE
BEGIN:VEVENT
DTSTART;TZID=America/Chicago:20240622T080000
DTEND;TZID=America/Chicago:20240622T090000
DTSTAMP:20260424T062516
CREATED:20240614T115754Z
LAST-MODIFIED:20240621T172804Z
UID:360-1719043200-1719046800@beingcollective.us
SUMMARY:Farm Market Canceled Due to weather | Weekend WellBEing Series at the Farm Market | Loving Awareness Embodiment Yoga
DESCRIPTION:Our FREE to ALL Weekend WellBEing Series kicks off at the Downtown Appleton Farm Market on June 22nd at 8:00 am in Houdini Plaza\, and you’re invited!  We will be guiding Loving Awareness Embodiment Yoga on the stage area in Houdini Plaza.  We’ll also have a tent near the stage where you can connect with us\, enjoy some peaceful Soul Sounds sound healing\, and meet our Being Collective Team of all-around awesome BEings.\nLoving Awareness Embodiment Yoga | Centering Movement for Every Body\nClasses with Savi feel like a big huge\, empowering self-love HUG.\nMOVE to release and reset! Move stuck emotions\, patterns\, and energy on all levels while freeing the body\, mind\, and spirit. Savi’s intuitively guided flow blends accessible movements\, intentional breathwork\, affirming mantras\, and conscious meditative presence for a refreshing class that leaves you feeling embodied and uplifted.\n\nEvery session ends with a restful integration sound journey guided by a fusion of Mark’s sound healing singing bowls\, bells\, ocean drum\, handpan\, and more — heavenly.\n\nSavi + Mark bring their hearts of Loving Awareness and passion for conscious connection alive in every session. They have a gift for creating an especially safe\, embracing\, and loving space to practice\, move\, breathe\, connect\, and embody together.\nLoving Awareness Yoga — Breathe. Connect. Embody.\nEach session is accessible and beneficial to all\, regardless of experience level.
URL:https://beingcollective.us/event/weekend-wellbeing-series-at-the-farm-market-loving-awareness-embodiment-yoga/
LOCATION:Houdini Plaza\, 100 W Lawrence St UNIT 307\, Appleton\, WI\, 54911\, United States
CATEGORIES:Loving Awareness,Yoga
ATTACH;FMTTYPE=image/png:https://beingcollective.us/wp-content/uploads/2024/06/Screenshot-2024-06-14-6.50.49-AM.png
END:VEVENT
END:VCALENDAR