BEGIN:VCALENDAR
VERSION:2.0
PRODID:-//Being Collective - ECPv6.15.20//NONSGML v1.0//EN
CALSCALE:GREGORIAN
METHOD:PUBLISH
X-WR-CALNAME:Being Collective
X-ORIGINAL-URL:https://beingcollective.us
X-WR-CALDESC:Events for Being Collective
REFRESH-INTERVAL;VALUE=DURATION:PT1H
X-Robots-Tag:noindex
X-PUBLISHED-TTL:PT1H
BEGIN:VTIMEZONE
TZID:America/Chicago
BEGIN:DAYLIGHT
TZOFFSETFROM:-0600
TZOFFSETTO:-0500
TZNAME:CDT
DTSTART:20240310T080000
END:DAYLIGHT
BEGIN:STANDARD
TZOFFSETFROM:-0500
TZOFFSETTO:-0600
TZNAME:CST
DTSTART:20241103T070000
END:STANDARD
BEGIN:DAYLIGHT
TZOFFSETFROM:-0600
TZOFFSETTO:-0500
TZNAME:CDT
DTSTART:20250309T080000
END:DAYLIGHT
BEGIN:STANDARD
TZOFFSETFROM:-0500
TZOFFSETTO:-0600
TZNAME:CST
DTSTART:20251102T070000
END:STANDARD
BEGIN:DAYLIGHT
TZOFFSETFROM:-0600
TZOFFSETTO:-0500
TZNAME:CDT
DTSTART:20260308T080000
END:DAYLIGHT
BEGIN:STANDARD
TZOFFSETFROM:-0500
TZOFFSETTO:-0600
TZNAME:CST
DTSTART:20261101T070000
END:STANDARD
END:VTIMEZONE
BEGIN:VEVENT
DTSTART;TZID=America/Chicago:20250628T090000
DTEND;TZID=America/Chicago:20250628T100000
DTSTAMP:20260424T132307
CREATED:20250521T202433Z
LAST-MODIFIED:20250521T215853Z
UID:2144-1751101200-1751104800@beingcollective.us
SUMMARY:Weekend WellBEing | Summer Self-Care Series
DESCRIPTION:June 28 | Robin Hertting with Being Collective + Lawrence University \n\n\n\nNo Judgment Yoga with Robin\n\n\n\n\n\n\n\nExperience a fun and safe space where you can be just as you are without class expectations or judgment. Explore your own breath and your body\, be comfortable in your own skin and know that you are accepted and supported just as you are\, where you are right now.Recognizing our uniqueness\, this class offers gentle guidance for modifications to allow each individual to find their own place of alignment and comfort. Our world is so busy\, our lives full of ‘all the things’ that we think we need to accomplish.*** BYO yoga mat\, props\, and water bottle \n\n\n\nJoin Downtown Appleton Farm Market and Being Collective | Center for Connection\, Community\, and WellBEing for our second season of the Weekend WellBEing | Summer Self-Care Series at the Farm Market. \n\n\n\nEnjoy a FREE CLASS from 9-10 AM offering wellness and exercise oriented themes including yoga\, guided meditation and breathwork\, stretching\, India-inspired dance movement\, and more. \n\n\n\n*** BYO yoga mat\, props\, and water bottle \n\n\n\nCheck out the full schedule with more details on the farm market website: https://appletondowntown.org/downtown-appleton-farm-market/ \n\n\n\nThank you to our 2nd year sponsor\, AARP Wisconsin!
URL:https://beingcollective.us/event/weekend-wellbeing-summer-self-care-series-3/
LOCATION:Houdini Plaza\, 100 W Lawrence St UNIT 307\, Appleton\, WI\, 54911\, United States
CATEGORIES:Yoga
ATTACH;FMTTYPE=image/png:https://beingcollective.us/wp-content/uploads/2025/05/COVER-Weekend-WellBEing-Series-2025.png
END:VEVENT
END:VCALENDAR