BEGIN:VCALENDAR
VERSION:2.0
PRODID:-//Being Collective - ECPv6.15.20//NONSGML v1.0//EN
CALSCALE:GREGORIAN
METHOD:PUBLISH
X-WR-CALNAME:Being Collective
X-ORIGINAL-URL:https://beingcollective.us
X-WR-CALDESC:Events for Being Collective
REFRESH-INTERVAL;VALUE=DURATION:PT1H
X-Robots-Tag:noindex
X-PUBLISHED-TTL:PT1H
BEGIN:VTIMEZONE
TZID:America/Chicago
BEGIN:DAYLIGHT
TZOFFSETFROM:-0600
TZOFFSETTO:-0500
TZNAME:CDT
DTSTART:20240310T080000
END:DAYLIGHT
BEGIN:STANDARD
TZOFFSETFROM:-0500
TZOFFSETTO:-0600
TZNAME:CST
DTSTART:20241103T070000
END:STANDARD
BEGIN:DAYLIGHT
TZOFFSETFROM:-0600
TZOFFSETTO:-0500
TZNAME:CDT
DTSTART:20250309T080000
END:DAYLIGHT
BEGIN:STANDARD
TZOFFSETFROM:-0500
TZOFFSETTO:-0600
TZNAME:CST
DTSTART:20251102T070000
END:STANDARD
BEGIN:DAYLIGHT
TZOFFSETFROM:-0600
TZOFFSETTO:-0500
TZNAME:CDT
DTSTART:20260308T080000
END:DAYLIGHT
BEGIN:STANDARD
TZOFFSETFROM:-0500
TZOFFSETTO:-0600
TZNAME:CST
DTSTART:20261101T070000
END:STANDARD
END:VTIMEZONE
BEGIN:VEVENT
DTSTART;TZID=America/Chicago:20250608T100000
DTEND;TZID=America/Chicago:20250608T120000
DTSTAMP:20260424T132529
CREATED:20250521T221803Z
LAST-MODIFIED:20250521T221832Z
UID:2151-1749376800-1749384000@beingcollective.us
SUMMARY:Summer Awakening | a Mini-Retreat with Tanja
DESCRIPTION:Wellbeing Investment | $35 — includes a handcrafted gift made by Tanja \n\n\n\n\n\nWelcome the joyful energy of summer with this beautiful and gentle workshop led by Tanja. Together\, we’ll prepare our bodies\, minds\, and spirits for the season ahead by exploring how we naturally align with summer’s vibrant rhythms and elements. \n\n\n\nThis special session includes: \n\n\n\n• An introduction to the connection between the body\, mind\, and the summer season \n\n\n\n• Seasonal breathwork and a grounding mudra practice \n\n\n\n• A gentle\, summer-inspired Vinyasa flow to restore balance and vitality \n\n\n\n• Deep rest and a vivid\, guided summer meditation \n\n\n\n• A take-home\, handcrafted aromatherapy gift made by Tanja \n\n\n\nJoin us for a nourishing morning of movement\, stillness\, and sensory joy as we align with the warmth and light of the season. \n\n\n\nMeet Your Summer Mini-Retreat Guide\, Tanja Zins —\n\n\n\n\n\n\n\nTanja\, a German born native and mother of three\, is a passionate entrepreneur with a deep love for nature. When not monitoring rivers or running her business\, she immerses herself in outdoor activities like mountain biking and attending concerts. Her journey into yoga began as a healing practice\, evolving from mindfulness and meditation into a profound exploration of the mind-body connection. \n\n\n\nInspired by the supportive yoga community\, Tanja became a dedicated teacher\, specializing in gentle Vinyasa flow. Her classes focus on gentle yet fluid movements\, emphasizing breath awareness and balance. Through her teaching\, she aims to leave students feeling rejuvenated\, present\, and deeply connected to themselves and their surroundings.
URL:https://beingcollective.us/event/summer-awakening-a-mini-retreat-with-tanja/
LOCATION:Being Collective\, 109 S. Appleton St\, Appleton\, 54911\, United States
CATEGORIES:Yoga
ATTACH;FMTTYPE=image/png:https://beingcollective.us/wp-content/uploads/2025/05/Screenshot-2025-05-21-at-5.09.55 PM.png
END:VEVENT
END:VCALENDAR