BEGIN:VCALENDAR
VERSION:2.0
PRODID:-//Being Collective - ECPv6.15.20//NONSGML v1.0//EN
CALSCALE:GREGORIAN
METHOD:PUBLISH
X-WR-CALNAME:Being Collective
X-ORIGINAL-URL:https://beingcollective.us
X-WR-CALDESC:Events for Being Collective
REFRESH-INTERVAL;VALUE=DURATION:PT1H
X-Robots-Tag:noindex
X-PUBLISHED-TTL:PT1H
BEGIN:VTIMEZONE
TZID:America/Chicago
BEGIN:DAYLIGHT
TZOFFSETFROM:-0600
TZOFFSETTO:-0500
TZNAME:CDT
DTSTART:20230312T080000
END:DAYLIGHT
BEGIN:STANDARD
TZOFFSETFROM:-0500
TZOFFSETTO:-0600
TZNAME:CST
DTSTART:20231105T070000
END:STANDARD
BEGIN:DAYLIGHT
TZOFFSETFROM:-0600
TZOFFSETTO:-0500
TZNAME:CDT
DTSTART:20240310T080000
END:DAYLIGHT
BEGIN:STANDARD
TZOFFSETFROM:-0500
TZOFFSETTO:-0600
TZNAME:CST
DTSTART:20241103T070000
END:STANDARD
BEGIN:DAYLIGHT
TZOFFSETFROM:-0600
TZOFFSETTO:-0500
TZNAME:CDT
DTSTART:20250309T080000
END:DAYLIGHT
BEGIN:STANDARD
TZOFFSETFROM:-0500
TZOFFSETTO:-0600
TZNAME:CST
DTSTART:20251102T070000
END:STANDARD
BEGIN:DAYLIGHT
TZOFFSETFROM:-0600
TZOFFSETTO:-0500
TZNAME:CDT
DTSTART:20260308T080000
END:DAYLIGHT
BEGIN:STANDARD
TZOFFSETFROM:-0500
TZOFFSETTO:-0600
TZNAME:CST
DTSTART:20261101T070000
END:STANDARD
END:VTIMEZONE
BEGIN:VEVENT
DTSTART;TZID=America/Chicago:20250301T113000
DTEND;TZID=America/Chicago:20250301T124500
DTSTAMP:20260424T012144
CREATED:20250112T191225Z
LAST-MODIFIED:20250219T152857Z
UID:1385-1740828600-1740833100@beingcollective.us
SUMMARY:Soul Sound Journey with Savi + Mark | Sound Alchemy for Mind\, Body\, Spirit
DESCRIPTION:We invite you to experience how intentionally crafted sound vibrations can give you a restful and revitalizing restorative reset. Come be cocooned in resonant waves of sonic vibrations created and inspired in the moment.  \n\n\n\nSavi and Mark\, your Loving Awareness Soul Sound Journey guides\, tune into the collective energy of those present to deliver a unique and immersive soundscape — bringing a field of nurturing love and healing alive in the most felt\, balancing\, and beautiful ways. \n\n\n\nImmerse Yourself in a sonic river of healing\, an ocean love with waves and waves of resonating frequency that soothe\, calm\, aid in gentle release\, and support inner peace\, balance\, and transformation. \n\n\n\nMark and Savi are seasoned Conscious Experience Guides who know how to create and hold sacred space for souls to embody authentically\, while allowing rest\, reset\, and restoration from within. \n\n\n\nSoul Sound Journeys with Savi and Mark are one of a kind (and never the same thing twice!)\, featuring a unique synergy of the following: \n\n\n\nHandpan\, Tibetan\, crystal\, and Origin Series singing bowls\, overtone flute\, drone flutes\, ocarina (clay flute)\, Nepalese bells\, Koshi chimes\, metallophones\, seed rattles\, medicine drums\, vibrational drones and harmonium\, sounding breath\, nature sounds\, intuited Light Language\, and vocal toning\, singing\, and more… \n\n\n\nAllow yourself to rest\, reset\, and restore as you receive the waves of vibrational sound medicine. \n\n\n\nThe journey comes full circle with some moments of peaceful silence before being gently guided back into the waking moment\, allowing time for reflection and integration. \n\n\n\nWhat To Bring: \n\n\n\nAnything that will support you in feeling comfy\, cozy\, and cocooned during the journey! \n\n\n\nSuggestions are: \n\n\n\n\nYoga Mat\, other thicker mat\n\n\n\nBlanket(s)\n\n\n\nPillow(s)\n\n\n\nSocks/Slippers\n\n\n\nEye Mask (if you want to block light\, totally optional\, listen to your inner guidance)\n\n\n\nWater bottle\n\n\n\n\nWhat to Expect: \n\n\n\n\nThe full journey from start to finish will be 75 minutes\, including introduction at the beginning and integration/reflection time at the end\n\n\n\nWe are a shoes off gathering space\, please feel free to bring slippers or cozy socks\n\n\n\nYou will be invited to lie down during the sound journey\, and you are welcome to change positions at any time for comfort. \n\n\n\nOther familiar terms you may have heard for experiences like this can be: sound bath\, sound healing\, sound therapy\, etc. We choose Soul Sound Journey and Sound Alchemy for our unique experience as it is a transformative sound vibration fusion of intuitive\, indigenous\, and ancient\, ancestral sounds and vocalizations that ‘speak to the soul’.\n\n\n\n\nWe look forward to journeying into the alchemy of sound with you! \n\n\n\nWant to Schedule a Private Group Soul Sound Journey? \n\n\n\nTo book a private Soul Sound Journey for your special group\, please reach out: \n\n\n\nconnect@beingcollective.us  \n\n\n\nUpcoming with Savi and Mark — \n\n\n\nTo stay in the pulse of our conscious heart gatherings and events\, visit: \n\n\n\nhttps://beingcollective.us/events/
URL:https://beingcollective.us/event/soul-sound-journey-with-savi-mark-sound-alchemy-for-mind-body-spirit-2/
LOCATION:Being Collective\, 109 S. Appleton St\, Appleton\, 54911\, United States
CATEGORIES:Loving Awareness,Soul Sound Journey
ATTACH;FMTTYPE=image/png:https://beingcollective.us/wp-content/uploads/2025/01/Soul-Sound-Journey-NEW-Cover-1.4.25.png
END:VEVENT
BEGIN:VEVENT
DTSTART;TZID=America/Chicago:20250208T113000
DTEND;TZID=America/Chicago:20250208T124500
DTSTAMP:20260424T012144
CREATED:20250109T185739Z
LAST-MODIFIED:20250127T144458Z
UID:1354-1739014200-1739018700@beingcollective.us
SUMMARY:Soul Sound Journey with Savi + Mark | Sound Alchemy for Mind\, Body\, Spirit
DESCRIPTION:We invite you to experience how intentionally crafted sound vibrations can give you a restful and revitalizing restorative reset. Come be cocooned in resonant waves of sonic vibrations created and inspired in the moment.  \n\n\n\nSavi and Mark\, your Loving Awareness Soul Sound Journey guides\, tune into the collective energy of those present to deliver a unique and immersive soundscape — bringing a field of nurturing love and healing alive in the most felt\, balancing\, and beautiful ways. \n\n\n\nImmerse Yourself in a sonic river of healing\, an ocean love with waves and waves of resonating frequency that soothe\, calm\, aid in gentle release\, and support inner peace\, balance\, and transformation. \n\n\n\nMark and Savi are seasoned Conscious Experience Guides who know how to create and hold sacred space for souls to embody authentically\, while allowing rest\, reset\, and restoration from within. \n\n\n\nSoul Sound Journeys with Savi and Mark are one of a kind (and never the same thing twice!)\, featuring a unique synergy of the following: \n\n\n\nHandpan\, Tibetan\, crystal\, and Origin Series singing bowls\, overtone flute\, drone flutes\, ocarina (clay flute)\, Nepalese bells\, Koshi chimes\, metallophones\, seed rattles\, medicine drums\, vibrational drones and harmonium\, sounding breath\, nature sounds\, intuited Light Language\, and vocal toning\, singing\, and more… \n\n\n\nAllow yourself to rest\, reset\, and restore as you receive the waves of vibrational sound medicine. \n\n\n\nThe journey comes full circle with some moments of peaceful silence before being gently guided back into the waking moment\, allowing time for reflection and integration. \n\n\n\nWhat To Bring: \n\n\n\nAnything that will support you in feeling comfy\, cozy\, and cocooned during the journey! \n\n\n\nSuggestions are: \n\n\n\n\nYoga Mat\, other thicker mat\n\n\n\nBlanket(s)\n\n\n\nPillow(s)\n\n\n\nSocks/Slippers\n\n\n\nEye Mask (if you want to block light\, totally optional\, listen to your inner guidance)\n\n\n\nWater bottle\n\n\n\n\nWhat to Expect: \n\n\n\n\nThe full journey from start to finish will be 75 minutes\, including introduction at the beginning and integration/reflection time at the end\n\n\n\nWe are a shoes off gathering space\, please feel free to bring slippers or cozy socks\n\n\n\nYou will be invited to lie down during the sound journey\, and you are welcome to change positions at any time for comfort. \n\n\n\nOther familiar terms you may have heard for experiences like this can be: sound bath\, sound healing\, sound therapy\, etc. We choose Soul Sound Journey and Sound Alchemy for our unique experience as it is a transformative sound vibration fusion of intuitive\, indigenous\, and ancient\, ancestral sounds and vocalizations that ‘speak to the soul’.\n\n\n\n\nWe look forward to journeying into the alchemy of sound with you! \n\n\n\nWant to Schedule a Private Group Soul Sound Journey? \n\n\n\nTo book a private Soul Sound Journey for your special group\, please reach out: \n\n\n\nconnect@beingcollective.us  \n\n\n\nUpcoming with Savi and Mark — \n\n\n\nTo stay in the pulse of our conscious heart gatherings and events\, visit: \n\n\n\nhttps://beingcollective.us/events/
URL:https://beingcollective.us/event/soul-sound-journey-with-savi-mark-sound-alchemy-for-mind-body-spirit/
LOCATION:Being Collective\, 109 S. Appleton St\, Appleton\, 54911\, United States
CATEGORIES:Loving Awareness,Soul Sound Journey
ATTACH;FMTTYPE=image/png:https://beingcollective.us/wp-content/uploads/2025/01/Soul-Sound-Journey-NEW-Cover-1.4.25.png
END:VEVENT
BEGIN:VEVENT
DTSTART;TZID=America/Chicago:20250104T113000
DTEND;TZID=America/Chicago:20250104T130000
DTSTAMP:20260424T012144
CREATED:20241202T155438Z
LAST-MODIFIED:20241219T031204Z
UID:1022-1735990200-1735995600@beingcollective.us
SUMMARY:Soothing Saturday Soul Sound Journey | Rest. Reset. Restore.
DESCRIPTION:Join us for the first Soul Sound Journey of 2025 … what a perfect way to continue to RING in the New Year! \n\n\n\nImmerse Yourself — in an Intuitive Flow of Sacred Sound Current — a sonic river of healing\, an ocean of love\, waves and waves of resonating frequency that soothe\, calm\, aid in gentle release\, and support inner peace\, balance\, and transformation. \n\n\n\nCome be cocooned in resonant waves of sacred sonic vibrations created and inspired in the moment. Savi and Mark\, your Loving Awareness Soul Sound Journey guides\, tune into the collective energy of those present to deliver a unique and immersive soundscape — bringing a field of Love and Healing alive in the most felt\, balancing\, and beautiful ways. \n\n\n\nMark and Savi are seasoned Conscious Experience Guides who know how to create and hold sacred space for souls to embody authentically\, while allowing rest\, reset\, and restoration from within. \n\n\n\nEach Soul Sound Journey features a unique synergy of some of the following:\n\n\n\nHandpan\, crystal and Origin Series Singing Bowls\, overtone flute\, Koshi chimes\, metallophones\, seed rattles\, medicine drums\, vibrational drones and harmonium\, sounding breath\, nature sounds\, intuited Light Language\, and vocal toning\, singing\, and more… \n\n\n\nAllow yourself to rest\, reset\, and restore as you receive the waves of vibrational sound medicine. \n\n\n\nThe journey comes full circle with some moments of peaceful silence before being gently guided back into the waking moment\, allowing time for reflection and integration. \n\n\n\nWhat To Bring:\n\n\n\nAnything that will support you in feeling comfy\, cozy\, and cocooned during the journey! \n\n\n\nYoga Mat\, other thicker mat \n\n\n\nBlanket(s) \n\n\n\nPillow(s) \n\n\n\nEye Mask (if you want to block light\, totally optional\, listen to your inner guidance) \n\n\n\nWater bottle
URL:https://beingcollective.us/event/soothing-saturday-soul-sound-journey-rest-reset-restore/
LOCATION:Being Collective\, 109 S. Appleton St\, Appleton\, 54911\, United States
CATEGORIES:Loving Awareness,Soul Sound Journey
ATTACH;FMTTYPE=image/png:https://beingcollective.us/wp-content/uploads/2024/10/Soul-Sound-Journey-Cover-2024.png
END:VEVENT
BEGIN:VEVENT
DTSTART;TZID=America/Chicago:20241207T113000
DTEND;TZID=America/Chicago:20241207T130000
DTSTAMP:20260424T012144
CREATED:20241031T123524Z
LAST-MODIFIED:20241103T013234Z
UID:903-1733571000-1733576400@beingcollective.us
SUMMARY:Soothing Saturday Soul Sound Journey | Rest. Reset. Restore.
DESCRIPTION:Immerse Yourself — In an Intuitive Flow of Sacred Sound Current — A Sonic river of healing\, An ocean of love\, waves and waves of resonating frequency that soothe\, calm\, aid in gentle release\, and support inner peace\, balance\, and transformation. \n\n\n\nCome be cocooned in resonant waves of sacred sonic vibrations created and inspired in the moment. Savi and Mark\, your Loving Awareness Soul Sound Journey guides\, tune into the collective energy of those present to deliver a unique and immersive soundscape — bringing a field of Love and Healing alive in the most felt\, balancing\, and beautiful ways. \n\n\n\nMark and Savi are seasoned Conscious Experience Guides who know how to create and hold sacred space for souls to embody authentically\, while allowing rest\, reset\, and restoration from within. \n\n\n\nEach Soul Sound Journey features a unique synergy of some of the following:\n\n\n\nHandpan\, crystal and Origin Series Singing Bowls\, overtone flute\, Koshi chimes\, metallophones\, seed rattles\, medicine drums\, vibrational drones and harmonium\, sounding breath\, nature sounds\, intuited Light Language\, and vocal toning\, singing\, and more… \n\n\n\nAllow yourself to rest\, reset\, and restore as you receive the waves of vibrational sound medicine. \n\n\n\nThe journey comes full circle with some moments of peaceful silence before being gently guided back into the waking moment\, allowing time for reflection and integration. \n\n\n\nWhat To Bring:\n\n\n\nAnything that will support you in feeling comfy\, cozy\, and cocooned during the journey! \n\n\n\nJournal \n\n\n\nYoga Mat\, other thicker mat \n\n\n\nBlanket(s) \n\n\n\nPillow(s) \n\n\n\nEye Mask (if you want to block light\, totally optional\, listen to your inner guidance) \n\n\n\nWater bottle
URL:https://beingcollective.us/event/soul-sound-journey-rest-reset-restore-3/
LOCATION:Being Collective\, 109 S. Appleton St\, Appleton\, 54911\, United States
CATEGORIES:Soul Sound Journey
ATTACH;FMTTYPE=image/png:https://beingcollective.us/wp-content/uploads/2024/10/Soul-Sound-Journey-Cover-2024.png
END:VEVENT
BEGIN:VEVENT
DTSTART;TZID=America/Chicago:20241102T110000
DTEND;TZID=America/Chicago:20241102T123000
DTSTAMP:20260424T012144
CREATED:20241001T123109Z
LAST-MODIFIED:20241020T235559Z
UID:809-1730545200-1730550600@beingcollective.us
SUMMARY:Soul Sound Journey | Rest. Reset. Restore.
DESCRIPTION:Immerse Yourself — In An Intuitive Flow Of Sacred Sound Current — A Sonic River Of Healing\, An Ocean Of Love\, Waves And Waves Of Resonating Frequency That Soothe\, Calm\, Aid In Gentle Release\, And Support Inner Peace\, Balance\, And Transformation. \n\n\n\nCome be cocooned in resonant waves of sacred sonic vibrations created and inspired in the moment. Savi and Mark\, your Loving Awareness Soul Sound Journey guides\, tune into the collective energy of those present to deliver a unique and immersive soundscape — bringing a field of Love and Healing alive in the most felt\, balancing\, and beautiful ways. \n\n\n\nMark and Savi are seasoned Conscious Experience Guides who know how to create and hold sacred space for souls to embody authentically\, while allowing rest\, reset\, and restoration from within. \n\n\n\nEach Soul Sound Journey Features A Unique Synergy Of Some Of The Following:\n\n\n\nHandpan\, crystal and Origin Series Singing Bowls\, overtone flute\, Koshi chimes\, metallophones\, seed rattles\, medicine drums\, vibrational drones and harmonium\, sounding breath\, nature sounds\, intuited Light Language\, and vocal toning\, singing\, and more… \n\n\n\nAllow yourself to rest\, reset\, and restore as you receive the waves of vibrational sound medicine. \n\n\n\nThe journey comes full circle with some moments of peaceful silence before being gently guided back into the waking moment\, allowing time for reflection and integration. \n\n\n\nWhat To Bring:\n\n\n\nAnything that will support you in feeling comfy\, cozy\, and cocooned during the journey! \n\n\n\nJournal \n\n\n\nYoga Mat\, other thicker mat \n\n\n\nBlanket(s) \n\n\n\nPillow(s) \n\n\n\nEye Mask (if you want to block light\, totally optional\, listen to your inner guidance) \n\n\n\nWater bottle
URL:https://beingcollective.us/event/soul-sound-journey-rest-reset-restore-2/
LOCATION:Being Collective\, 109 S. Appleton St\, Appleton\, 54911\, United States
CATEGORIES:Meditation,Soul Sound Journey
ATTACH;FMTTYPE=image/png:https://beingcollective.us/wp-content/uploads/2024/10/Soul-Sound-Journey-Cover-2024.png
END:VEVENT
BEGIN:VEVENT
DTSTART;TZID=America/Chicago:20241017T183000
DTEND;TZID=America/Chicago:20241017T200000
DTSTAMP:20260424T012144
CREATED:20240818T151227Z
LAST-MODIFIED:20241015T152256Z
UID:609-1729189800-1729195200@beingcollective.us
SUMMARY:Full Moon Mantra Meditation + Sound Journey
DESCRIPTION:Join us for a re-enCHANTment meditation honoring the energy of the full moon. \n\n\n\nThis journey opens with a guided full moon meditation and gently eases into an intuitive flow of sacred sound current … a sonic river of healing\, an ocean of love\, waves and waves of resonating frequency that soothe\, calm\, aid in gentle release\, and supports inner peace\, balance\, and transformation.Immerse Yourself \n\n\n\nThursday\,  October 17 @ Being Collective109 S Appleton St6:30 – 8:00 pm | 90 Minutes | $25/Person \n\n\n\nCome\, bask in the energy of the FULL MOON with us … Meditate and be cocooned in resonant waves of sacred sonic vibrations created and inspired in the moment. Savi and Mark\, your Loving Awareness Soul Sound Journey guides\, tune into the collective energy of those present to deliver a unique and immersive soundscape — bringing a field of Love and Healing alive in the most felt\, balancing\, and beautiful ways. \n\n\n\nMark and Savi are seasoned Conscious Experience Guides who know how to create and hold sacred space for souls to embody authentically\, while allowing rest\, reset\, and restoration from within. \n\n\n\nEach Soul Sound Journey features a unique synergy of some of the following: \n\n\n\nHandpan\, crystal and Origin Series Singing Bowls\, overtone flute\, Koshi chimes\, metallophones\, seed rattles\, medicine drums\, vibrational drones and harmonium\, sounding breath\, nature sounds\, intuited Light Language\, and vocal toning\, singing\, and more… \n\n\n\nAllow yourself to rest\, reset\, and restore as you receive the waves of vibrational sound medicine. \n\n\n\nThe journey comes full circle with some moments of peaceful silence before being gently guided back into the waking moment\, allowing time for reflection and integration. \n\n\n\nWhat To Bring:Anything that will support you in feeling comfy\, cozy\, and cocooned during the journey! \n\n\n\nYoga Mat\, Sheepskin mat\, other thicker mat (if you prefer/need a chair\, that’s perfect!)Blanket(s)Pillow(s)Eye Mask (if you want to block light\, totally optional\, listen to your inner guidance)Water bottle
URL:https://beingcollective.us/event/full-moon-mantra-meditation-soul-sound-journey/
LOCATION:Being Collective\, 109 S. Appleton St\, Appleton\, 54911\, United States
CATEGORIES:Full Moon,Mantra,Meditation,Soul Sound Journey
ATTACH;FMTTYPE=image/png:https://beingcollective.us/wp-content/uploads/2024/08/full-moon-meditation-and-soul-sound-journey-1920-x-1080-px.png
END:VEVENT
BEGIN:VEVENT
DTSTART;TZID=America/Chicago:20240926T183000
DTEND;TZID=America/Chicago:20240926T194500
DTSTAMP:20260424T012144
CREATED:20240818T170142Z
LAST-MODIFIED:20240830T113418Z
UID:630-1727375400-1727379900@beingcollective.us
SUMMARY:Soul Sound Journey | Rest. Reset. Restore.
DESCRIPTION:Sound Healing | the perfect way to release the day \n\n\n\nImmerse Yourself — In An Intuitive Flow Of Sacred Sound Current — A Sonic River Of Healing\, An Ocean Of Love\, Waves And Waves Of Resonating Frequency That Soothe\, Calm\, Aid In Gentle Release\, And Support Inner Peace\, Balance\, And Transformation. \n\n\n\nCome be cocooned in resonant waves of sacred sonic vibrations created and inspired in the moment. Savi and Mark\, your Loving Awareness Soul Sound Journey guides\, tune into the collective energy of those present to deliver a unique and immersive soundscape — bringing a field of Love and Healing alive in the most felt\, balancing\, and beautiful ways. \n\n\n\nMark and Savi are seasoned Conscious Experience Guides who know how to create and hold sacred space for souls to embody authentically\, while allowing rest\, reset\, and restoration from within. \n\n\n\nEach Soul Sound Journey Features A Unique Synergy Of Some Of The Following:\n\n\n\nHandpan\, crystal and Origin Series Singing Bowls\, overtone flute\, Koshi chimes\, metallophones\, seed rattles\, medicine drums\, vibrational drones and harmonium\, sounding breath\, nature sounds\, intuited Light Language\, and vocal toning\, singing\, and more… \n\n\n\nAllow yourself to rest\, reset\, and restore as you receive the waves of vibrational sound medicine. \n\n\n\nThe journey comes full circle with some moments of peaceful silence before being gently guided back into the waking moment\, allowing time for reflection and integration. \n\n\n\nWhat To Bring:\n\n\n\nAnything that will support you in feeling comfy\, cozy\, and cocooned during the journey! \n\n\n\nJournal \n\n\n\nYoga Mat\, other thicker mat \n\n\n\nBlanket(s) \n\n\n\nPillow(s) \n\n\n\nEye Mask (if you want to block light\, totally optional\, listen to your inner guidance) \n\n\n\nWater bottle
URL:https://beingcollective.us/event/soul-sound-journey-rest-reset-restore/
LOCATION:Being Collective\, 109 S. Appleton St\, Appleton\, 54911\, United States
CATEGORIES:Soul Sound Journey
ATTACH;FMTTYPE=image/png:https://beingcollective.us/wp-content/uploads/2024/08/Screenshot-2024-08-30-6.32.18-AM.png
END:VEVENT
BEGIN:VEVENT
DTSTART;TZID=America/Chicago:20240823T183000
DTEND;TZID=America/Chicago:20240823T194500
DTSTAMP:20260424T012144
CREATED:20240609T193108Z
LAST-MODIFIED:20240818T164810Z
UID:288-1724437800-1724442300@beingcollective.us
SUMMARY:Soul Sound Journey | Rest. Reset. Restore.
DESCRIPTION:Friday Evening Sound Healing | the perfect way to release the week \nImmerse Yourself — In An Intuitive Flow Of Sacred Sound Current — A Sonic River Of Healing\, An Ocean Of Love\, Waves And Waves Of Resonating Frequency That Soothe\, Calm\, Aid In Gentle Release\, And Support Inner Peace\, Balance\, And Transformation. \nFriday\, August 23rd @ Being Collective 109 S. Appleton St.  2nd floor \n6:30 – 7:45 | 75 minutes | $25/person \nBook Now \nCome be cocooned in resonant waves of sacred sonic vibrations created and inspired in the moment. Savi and Mark\, your Loving Awareness Soul Sound Journey guides\, tune into the collective energy of those present to deliver a unique and immersive soundscape — bringing a field of Love and Healing alive in the most felt\, balancing\, and beautiful ways. \nMark and Savi are seasoned Conscious Experience Guides who know how to create and hold sacred space for souls to embody authentically\, while allowing rest\, reset\, and restoration from within. \nEach Soul Sound Journey Features A Unique Synergy Of Some Of The Following:\nHandpan\, crystal and Origin Series Singing Bowls\, overtone flute\, Koshi chimes\, metallophones\, seed rattles\, medicine drums\, vibrational drones and harmonium\, sounding breath\, nature sounds\, intuited Light Language\, and vocal toning\, singing\, and more… \nAllow yourself to rest\, reset\, and restore as you receive the waves of vibrational sound medicine. \nThe journey comes full circle with some moments of peaceful silence before being gently guided back into the waking moment\, allowing time for reflection and integration. \nWhat To Bring:\nAnything that will support you in feeling comfy\, cozy\, and cocooned during the journey! \n\nYoga Mat\, Sheepskin mat\, other thicker mat\nBlanket(s)\nPillow(s)\nEye Mask (if you want to block light\, totally optional\, listen to your inner guidance)\nWater bottle\nJournal
URL:https://beingcollective.us/event/evening-soul-sound-journey-rest-reset-restore/
LOCATION:Being Collective\, 109 S. Appleton St\, Appleton\, 54911\, United States
CATEGORIES:Meditation,Soul Sound Journey
END:VEVENT
END:VCALENDAR