BEGIN:VCALENDAR
VERSION:2.0
PRODID:-//Being Collective - ECPv6.15.20//NONSGML v1.0//EN
CALSCALE:GREGORIAN
METHOD:PUBLISH
X-ORIGINAL-URL:https://beingcollective.us
X-WR-CALDESC:Events for Being Collective
REFRESH-INTERVAL;VALUE=DURATION:PT1H
X-Robots-Tag:noindex
X-PUBLISHED-TTL:PT1H
BEGIN:VTIMEZONE
TZID:America/Chicago
BEGIN:DAYLIGHT
TZOFFSETFROM:-0600
TZOFFSETTO:-0500
TZNAME:CDT
DTSTART:20230312T080000
END:DAYLIGHT
BEGIN:STANDARD
TZOFFSETFROM:-0500
TZOFFSETTO:-0600
TZNAME:CST
DTSTART:20231105T070000
END:STANDARD
BEGIN:DAYLIGHT
TZOFFSETFROM:-0600
TZOFFSETTO:-0500
TZNAME:CDT
DTSTART:20240310T080000
END:DAYLIGHT
BEGIN:STANDARD
TZOFFSETFROM:-0500
TZOFFSETTO:-0600
TZNAME:CST
DTSTART:20241103T070000
END:STANDARD
BEGIN:DAYLIGHT
TZOFFSETFROM:-0600
TZOFFSETTO:-0500
TZNAME:CDT
DTSTART:20250309T080000
END:DAYLIGHT
BEGIN:STANDARD
TZOFFSETFROM:-0500
TZOFFSETTO:-0600
TZNAME:CST
DTSTART:20251102T070000
END:STANDARD
END:VTIMEZONE
BEGIN:VEVENT
DTSTART;TZID=America/Chicago:20241107T183000
DTEND;TZID=America/Chicago:20241107T200000
DTSTAMP:20260424T210830
CREATED:20240818T175647Z
LAST-MODIFIED:20241019T012141Z
UID:639-1731004200-1731009600@beingcollective.us
SUMMARY:SAVITRI GAYATRI mantra meditation journey
DESCRIPTION:Join us as we celebrate Savi’s spiritual naming anniversary by honoring the energy of Savitri\, the Light of a new day dawning. Immerse with us as we explore the deep wisdom and transforming Light of the Gayatri Mantra together … feel the inner-illumination of your own new day dawning\, within\, blessed transformation. This mantra meditation is one of the most ancient mantra practices and is said to support feeling guided by the Light of Source within as the path before you is enlightened. \n\n\n\nNo experience necessary.All are welcome.
URL:https://beingcollective.us/event/savitri-mantra-music-journey/
LOCATION:Being Collective\, 109 S. Appleton St\, Appleton\, 54911\, United States
CATEGORIES:Mantra,Meditation
ATTACH;FMTTYPE=image/png:https://beingcollective.us/wp-content/uploads/2024/08/Savitri-Gayatri-Mantra-Meditation-Journey.png
END:VEVENT
BEGIN:VEVENT
DTSTART;TZID=America/Chicago:20241123T180000
DTEND;TZID=America/Chicago:20241123T200000
DTSTAMP:20260424T210830
CREATED:20240816T225301Z
LAST-MODIFIED:20241006T024319Z
UID:602-1732384800-1732392000@beingcollective.us
SUMMARY:BRILLIANT BLISS MANTRA MUSIC JOURNEY
DESCRIPTION:COMMUNITY SINGING UPLIFTS THE SPIRIT\, OPENS THE HEART\, CALMS THE MIND\, AND INSTILLS CONNECTION AND INNER-HARMONY. JOIN THE CIRCLE AND EXPERIENCE IT WITH US! \n\n\n\nSACRED SOUND MEDICINE FOR HEART AND SOUL ~ SING . LISTEN . BREATHE . CONNECT . BE .\n\n\n\nDid you know that singing in community can increase inner-peace\, uplift your mind\, open your heart + leave you feeling more connected\, centered\, and alive? \n\n\n\nJoin our Family Band — Savi\, Mark\, Deann\, Denise\, Eliana + soul family friends — for an evening of Brilliant Bliss: a participatory\, co-creative music + sound healing journey. \n\n\n\nCome sing with us\, rock your body\, dance if the mood arises\, and bask in the ocean of sacred sounds and heart connection with soul family. \n\n\n\nNot a singer? No problem! Come and immerse in the sound current and BE. \n\n\n\nBrilliant Bliss Mantra Music is sacred sound medicine for heart & soul\, weaving high vibe conscious lyrics\, ancient mantras\, and earthy-cosmic grooves that embrace\, uplift\, empower & elevate! \n\n\n\nThe most important part of the band is…YOU! \n\n\n\nIt’s YOUR Presence and open heart that co-create the magic that unfolds. \n\n\n\nTHANK YOU FOR CHOOSING TO JOIN US FOR THIS COLLECTIVE SOUL-ENRICHING EXPERIENCE!\n\n\n\n$25 / person  well-being investment \n\n\n\nWhat to Bring — \n\n\n\nParking: FREE parking downtown on Sunday \n\n\n\nPLEASE BRING for your comfort: \n\n\n\nCushion/pillow + blanket for floor seating\, if you prefer this \n\n\n\nWater bottle with sealable cap
URL:https://beingcollective.us/event/brilliant-bliss-mantra-music-journey-3/
LOCATION:Being Collective\, 109 S. Appleton St\, Appleton\, 54911\, United States
CATEGORIES:Mantra
ATTACH;FMTTYPE=image/png:https://beingcollective.us/wp-content/uploads/2024/08/Brilliant-Bliss.png
END:VEVENT
END:VCALENDAR