BEGIN:VCALENDAR
VERSION:2.0
PRODID:-//Being Collective - ECPv6.15.20//NONSGML v1.0//EN
CALSCALE:GREGORIAN
METHOD:PUBLISH
X-WR-CALNAME:Being Collective
X-ORIGINAL-URL:https://beingcollective.us
X-WR-CALDESC:Events for Being Collective
REFRESH-INTERVAL;VALUE=DURATION:PT1H
X-Robots-Tag:noindex
X-PUBLISHED-TTL:PT1H
BEGIN:VTIMEZONE
TZID:America/Chicago
BEGIN:DAYLIGHT
TZOFFSETFROM:-0600
TZOFFSETTO:-0500
TZNAME:CDT
DTSTART:20250309T080000
END:DAYLIGHT
BEGIN:STANDARD
TZOFFSETFROM:-0500
TZOFFSETTO:-0600
TZNAME:CST
DTSTART:20251102T070000
END:STANDARD
BEGIN:DAYLIGHT
TZOFFSETFROM:-0600
TZOFFSETTO:-0500
TZNAME:CDT
DTSTART:20260308T080000
END:DAYLIGHT
BEGIN:STANDARD
TZOFFSETFROM:-0500
TZOFFSETTO:-0600
TZNAME:CST
DTSTART:20261101T070000
END:STANDARD
BEGIN:DAYLIGHT
TZOFFSETFROM:-0600
TZOFFSETTO:-0500
TZNAME:CDT
DTSTART:20270314T080000
END:DAYLIGHT
BEGIN:STANDARD
TZOFFSETFROM:-0500
TZOFFSETTO:-0600
TZNAME:CST
DTSTART:20271107T070000
END:STANDARD
END:VTIMEZONE
BEGIN:VEVENT
DTSTART;TZID=America/Chicago:20260912T120000
DTEND;TZID=America/Chicago:20260912T160000
DTSTAMP:20260423T171043
CREATED:20260323T025842Z
LAST-MODIFIED:20260323T025909Z
UID:3017-1789214400-1789228800@beingcollective.us
SUMMARY:World Peace Festival at Pierce Park
DESCRIPTION:What is World Peace Festival Fox Cities? \n\n\n\n\n\nThe World Peace Festival brings together people of all ages for a day of celebration\, reflection and collective hope for a more peaceful world. \n\n\n\nMission Statement: Inspired by the U.N. International Day of Peace\, our World Peace Festival is rooted in the belief that peace begins within and expands outward through conscious action\, shared understanding\, and loving connection. \n\n\n\nVision Statement: We are growing a community rooted in peace and love within a welcoming space where diversity is honored\, hope is cultivated\, and peace is nurtured.
URL:https://beingcollective.us/event/world-peace-festival-at-pierce-park/
LOCATION:Pierce Park\, 1035 W Prospect Ave.\, Appleton\, WI\, 54911\, United States
CATEGORIES:Special Event
ATTACH;FMTTYPE=image/png:https://beingcollective.us/wp-content/uploads/2026/03/Screenshot-2026-02-27-at-7.39.02-AM.png
END:VEVENT
END:VCALENDAR