BEGIN:VCALENDAR
VERSION:2.0
PRODID:-//Being Collective - ECPv6.15.20//NONSGML v1.0//EN
CALSCALE:GREGORIAN
METHOD:PUBLISH
X-ORIGINAL-URL:https://beingcollective.us
X-WR-CALDESC:Events for Being Collective
REFRESH-INTERVAL;VALUE=DURATION:PT1H
X-Robots-Tag:noindex
X-PUBLISHED-TTL:PT1H
BEGIN:VTIMEZONE
TZID:America/Chicago
BEGIN:DAYLIGHT
TZOFFSETFROM:-0600
TZOFFSETTO:-0500
TZNAME:CDT
DTSTART:20250309T080000
END:DAYLIGHT
BEGIN:STANDARD
TZOFFSETFROM:-0500
TZOFFSETTO:-0600
TZNAME:CST
DTSTART:20251102T070000
END:STANDARD
BEGIN:DAYLIGHT
TZOFFSETFROM:-0600
TZOFFSETTO:-0500
TZNAME:CDT
DTSTART:20260308T080000
END:DAYLIGHT
BEGIN:STANDARD
TZOFFSETFROM:-0500
TZOFFSETTO:-0600
TZNAME:CST
DTSTART:20261101T070000
END:STANDARD
BEGIN:DAYLIGHT
TZOFFSETFROM:-0600
TZOFFSETTO:-0500
TZNAME:CDT
DTSTART:20270314T080000
END:DAYLIGHT
BEGIN:STANDARD
TZOFFSETFROM:-0500
TZOFFSETTO:-0600
TZNAME:CST
DTSTART:20271107T070000
END:STANDARD
END:VTIMEZONE
BEGIN:VEVENT
DTSTART;TZID=America/Chicago:20260628T090000
DTEND;TZID=America/Chicago:20260628T170000
DTSTAMP:20260423T134436
CREATED:20260201T175613Z
LAST-MODIFIED:20260322T213331Z
UID:2897-1782637200-1782666000@beingcollective.us
SUMMARY:Mandala Yoga Festival
DESCRIPTION:The Mandala Yoga Festival is a vibrant\, all-day event open to the community\, celebrating the diverse expressions of yoga and wellness.  \n\n\n\nThis free festival invites participants to explore various styles and disciplines\, fostering a spirit of connection and inspiration. \n\n\n\nBeing Collective\, Savi and Mark\, are producing the sound arts area of the festival on the stage at Pierce Park.   \n\n\n\nThe Sound Arts Odyssey is an immersive\, experiential\, adventurous epic sonic journey to elevate\, uplift and respark the soul \n\n\n\nWe intend to cultivate a loving energy that unites our community\, encouraging everyone to deepen their practice and share their unique gifts. Experience workshops\, classes\, and activities designed to inspire and uplift\, creating a space for growth and transformation. Come be part of the magic—let’s celebrate our shared passion for yoga together!
URL:https://beingcollective.us/event/mandala-yoga-festival/
LOCATION:Pierce Park\, 1035 W Prospect Ave.\, Appleton\, WI\, 54911\, United States
CATEGORIES:Meditation,Music,Special Event,Yoga
ATTACH;FMTTYPE=image/png:https://beingcollective.us/wp-content/uploads/2025/05/Screenshot-2025-05-20-at-9.02.44 AM.png
END:VEVENT
END:VCALENDAR