BEGIN:VCALENDAR
VERSION:2.0
PRODID:-//Being Collective - ECPv6.15.20//NONSGML v1.0//EN
CALSCALE:GREGORIAN
METHOD:PUBLISH
X-ORIGINAL-URL:https://beingcollective.us
X-WR-CALDESC:Events for Being Collective
REFRESH-INTERVAL;VALUE=DURATION:PT1H
X-Robots-Tag:noindex
X-PUBLISHED-TTL:PT1H
BEGIN:VTIMEZONE
TZID:America/Chicago
BEGIN:DAYLIGHT
TZOFFSETFROM:-0600
TZOFFSETTO:-0500
TZNAME:CDT
DTSTART:20250309T080000
END:DAYLIGHT
BEGIN:STANDARD
TZOFFSETFROM:-0500
TZOFFSETTO:-0600
TZNAME:CST
DTSTART:20251102T070000
END:STANDARD
BEGIN:DAYLIGHT
TZOFFSETFROM:-0600
TZOFFSETTO:-0500
TZNAME:CDT
DTSTART:20260308T080000
END:DAYLIGHT
BEGIN:STANDARD
TZOFFSETFROM:-0500
TZOFFSETTO:-0600
TZNAME:CST
DTSTART:20261101T070000
END:STANDARD
BEGIN:DAYLIGHT
TZOFFSETFROM:-0600
TZOFFSETTO:-0500
TZNAME:CDT
DTSTART:20270314T080000
END:DAYLIGHT
BEGIN:STANDARD
TZOFFSETFROM:-0500
TZOFFSETTO:-0600
TZNAME:CST
DTSTART:20271107T070000
END:STANDARD
END:VTIMEZONE
BEGIN:VEVENT
DTSTART;TZID=America/Chicago:20260131T190000
DTEND;TZID=America/Chicago:20260131T203000
DTSTAMP:20260423T145705
CREATED:20260104T155105Z
LAST-MODIFIED:20260104T210015Z
UID:2728-1769886000-1769891400@beingcollective.us
SUMMARY:Go With The Flow | Ecstatic Dance Experience
DESCRIPTION:Ecstatic Dance Experiences at Being Collective … \n\n\n\nIntentional sound and movement alchemy for embodied transformation!\n\n\n\n\n\nPre-paid Registration Appreciated. Sliding scale. Scroll for ticket options.  RSVP needed.  If you plan to pay at the door please send us an email: connect@beingcollective.us Venmo or cash at the door. \n\n\n\nThis month’s theme: Go With The Flow  Guest DJ:  Desirae\n\n\n\ndon’t take yourself too seriously \n\n\n\nhave FUN \n\n\n\nlike water \n\n\n\njourney \n\n\n\nloosen up \n\n\n\nbe yourself \n\n\n\nif you are nervous or uncomfortable you probably aren’t the only one so why not join in \n\n\n\nGuest DJ: Desirae \n\n\n\n\n\n\n\nA little bit about me and why I love ecstatic dance: \n\n\n\nI have always loved to dance. But I developed a tendency to tell myself I had to look a certain way while moving my body to music. My children\, now 9 and 10\, have taught and reminded me how to let the music take over and flow through the body\, allowing movement to come without thought or judgement. This was becoming easier to do at home with them\, but I felt the need to experience this feeling with others.  \n\n\n\nI attended my first ecstatic dance at Being Collective last January. I was very nervous. I sat in the back for the first few songs trying to summon the courage to get up and move. I almost left as my fear was getting the best of me. But I stayed and did the scary thing because deep down I knew I had to stop taking myself so seriously and just flow. It felt so damn good\, not only to dance but to do something uncomfortable. That is where growth happens. Dancing nourishes me\, dancing with others energizes me. I love creating playlists to provide an experience for people whether it be in my group fitness classes\, a movement meditation by the river\, or an ecstatic dance at Being Collective. I look forward to flowing on a movement journey with you!! \n\n\n\n\n\n\n\n<<< SCROLL TO THE BOTTOM FOR TICKETS >>> \n\n\n\nThe Flow\n\n\n\nDoors open at 6:45Doors will be closed at 7:00 to create and hold a sacred space for the group* Times are approximate … the FLOW naturally unfolds!7:00 | Breathe & Stretch + Opening Circle with Savi + Desirae7:15 | Ecstatic Dance Journey DJ’d by Desirae8:30-ish | Closing Circle guided by Savi + Mark + Desirae \n\n\n\nThe Experience\n\n\n\nJoin us for an evening of dance and liberation.Ecstatic dance is a judgment free movement exploration space. Feel free to dance\, stretch\, or rest as you please\, as long as everyone’s space and experience is respected. \n\n\n\nCome and move and BE as you are!This is YOUR dance — your journey of self-expression\, transformation\, and LIBERATION in the company of others BEing and doing the same. No experience necessary. This is a sober event. \n\n\n\nThe STORY\n\n\n\nEcstatic dance is a free-form dance practice where participants move to music without following specific steps. The music provides the journey\, and participants feel\, move\, and weave through the soundscapes freely. The sacred intent is to provide a liberating and joyful space for self-expression through movement in the company of others doing the same. \n\n\n\nThe dance floor is a sacred space where we join together to journey into sound\, rhythm\, movement\, and breath. \n\n\n\nAs we enter into the journey\, we commit to an intentional\, sacred\, and safe space where we are all held and honored — on the dance floor we let go and free ourselves as we drop deep into the experience\, inviting and allowing powerful transformational dance moments that can invoke a natural ecstatic state from immersing in embodied connection within ourselves and our surroundings. \n\n\n\nWhen we step onto the dance floor\, we invite and include our whole selves\, even the frightened parts that want to hideWe dance through pain and sorrowWe dance with joy until our hard edges soften and our masks fall awayWe dance\, bravely allowing the uniqueness of our authentic nature to beam throughWe meet other courageous dancers\, weaving unbreakable threads of connectionOur connections and friendships transcend the boundaries of time and spaceAnd it all melts together —Sound\, beat\, movement\, breath —into a swirling vortex we embrace as communityAs the throbbing pulse of the dance floor matches our own heartbeat\, we know\, without a doubt\, we are not alone — we are all connectedAnd we return\, again and again to the dance floor to uplift ourselves in community\, connection\, belonging\, love\, peace\, and joy! \n\n\n\nThe guidelines\n\n\n\nAll are embraced and welcome.We ask that all honor and respect the shared space and one another. \n\n\n\nBe free | dance\, move\, and be still how and when you want — no judgementBe present | no phonesBe clear | no intoxicants or altering substancesBe embodied | no talking (expressive\, embodied sounds are invited!)Be consensual | if it’s not a clear yes\, it’s a no \n\n\n\n\n\n\n\nPre-paid Registration Appreciated. Sliding scale. Scroll for ticket options.  RSVP needed.  If you plan to pay at the door please send us an email: connect@beingcollective.us Venmo or cash at the door.
URL:https://beingcollective.us/event/go-with-the-flow-ecstatic-dance-experience/
LOCATION:Being Collective\, 109 S. Appleton St\, Appleton\, 54911\, United States
CATEGORIES:Ecstatic Dance
ATTACH;FMTTYPE=image/png:https://beingcollective.us/wp-content/uploads/2025/05/COVER-2.0-ecstatic-dance-experience.png
END:VEVENT
END:VCALENDAR